BEGIN:VCALENDAR
VERSION:2.0
PRODID:-//Aenoa formacion - ECPv6.9.0//NONSGML v1.0//EN
CALSCALE:GREGORIAN
METHOD:PUBLISH
X-WR-CALNAME:Aenoa formacion
X-ORIGINAL-URL:https://aenoa.com
X-WR-CALDESC:Eventos para Aenoa formacion
REFRESH-INTERVAL;VALUE=DURATION:PT1H
X-Robots-Tag:noindex
X-PUBLISHED-TTL:PT1H
BEGIN:VTIMEZONE
TZID:Europe/Paris
BEGIN:DAYLIGHT
TZOFFSETFROM:+0100
TZOFFSETTO:+0200
TZNAME:CEST
DTSTART:20260329T010000
END:DAYLIGHT
BEGIN:STANDARD
TZOFFSETFROM:+0200
TZOFFSETTO:+0100
TZNAME:CET
DTSTART:20261025T010000
END:STANDARD
TZID:Europe/Helsinki
BEGIN:DAYLIGHT
TZOFFSETFROM:+0200
TZOFFSETTO:+0300
TZNAME:EEST
DTSTART:20260329T010000
END:DAYLIGHT
BEGIN:STANDARD
TZOFFSETFROM:+0300
TZOFFSETTO:+0200
TZNAME:EET
DTSTART:20261025T010000
END:STANDARD
END:VTIMEZONE
BEGIN:VEVENT
DTSTART;VALUE=DATE:20260422
DTEND;VALUE=DATE:20260423
DTSTAMP:20260422T014353
CREATED:20231204T125228Z
LAST-MODIFIED:20260406T091842Z
UID:10000002-1776816000-1776902399@aenoa.com
SUMMARY:Gestión de la Formación Bonificada Nivel II Superior (Experto)
DESCRIPTION:Detalles del Curso\nAenoa organiza este curso técnico experto nivel superior para desarrollar los aspectos más complicados de la gestión de la Formación Bonificada\, desde las novedades para este año\, costes\, facturación\, justificación económica y bonificación\, los aspectos críticos de la Formación Programada\, trazabilidad\, seguimiento y control\, conciliación no conforme\, tipos de inspecciones\, alegaciones… \nDirigido a: \n\nProfesionales del sector de la formación con experiencia en formación bonificada\nGestores de formación con más de 2 años de experiencia\nTutores y jefes de estudios\nGestores de proyectos\nProveedores de soluciones y servicios de formación a empresas\nCoordinadores de formación online\nRRHH de grandes empresas\nAsesores\nConsultoras de formación\n\nSi desea más información\, solicítela en el email info@aenoa.com. \nIncluye: \n\nFormación.\n6 meses de asesoramiento gratuito.\n\n  \nContenidos Generales del Curso\n\nGestión\, organización e impartición de la Formación Bonificada.\nUso eficiente del aplicativo de Fundae. Novedades para este año.\nCostes\, facturación\, justificación económica y bonificación.\nAspectos críticos de la Formación Programada: RLT\, PIF\, grupos\,…\nTrazabilidad\, seguimiento y control. Conciliación No Conforme. Recursos.\n\n  \nContenidos Específicos del Curso\n1- GESTIÓN\, ORGANIZACIÓN E IMPARTICIÓN DE LA FORMACIÓN BONIFICADA.\n\nLo que indica la Normativa.\nAlgo más sobre Gestión de la Formación Bonificada.\nCómo comunicar el inicio y fin de los cursos.\nObligaciones de las empresas bonificadas y entidades organizadoras.\n\n  \n2- USO EFICIENTE DEL APLICATIVO DE FUNDAE. NOVEDADES PARA ESTE AÑO.\n\nNuevo Aplicativo de Fundae.\nAspectos de la gestión que se mantienen.\nUsuarios\, Empresas y Acciones Formativas.\nLos Grupos Formativos en el aplicativo.\n\n  \n3- COSTES\, FACTURACIÓN\, JUSTIFICACIÓN ECONÓMICA Y BONIFICACIÓN\n\nLos Costes de la Formación.\nCofinanciación privada de las empresas.\nImputación y justificación de costes.\nCaso Práctico de Costes.\n\n  \n4- ASPECTOS CRÍTICOS DE LA FORMACIÓN PROGRAMADA\n\nEmpresas nueva creación. Nuevos centros de trabajo.\nGrupos de Empresas. Funcionamiento.\nContabilización en la Formación Bonificada.\nEl papel de la Representación Legal de los Trabajadores.\n\n  \n5- TRAZABILIDAD\, SEGUIMIENTO Y CONTROL. CONCILIACIÓN NO CONFORME.\n\nSeguimiento y control. Comprobación.\nControl de los centros de formación programada.\nSeguimiento de la Administración. Modalidad presencial y online.\nConciliaciones no conformes. Principales motivos e incidencias.\nAspectos importantes para vigilar y no sufrir una conciliación no conforme. Trazabilidad.\n\n  \n6-IMPUTACIÓN Y FACTURACIÓN. DOCUMENTO C-10 Y B-1.\n\nJustificación de los costes: requisitos y documentos (facturas\, justificantes bancarios\, apuntes contables).\nFacturación de la formación: elementos esenciales. Anexos complementarios. El desglose de la factura de Formación Bonificada.\nJustificación de Costes en la modalidad de Autogestión. Imputación de costes en las grandes empresas.\nDocumento C-10. Certificado de costes salariales.\nResumen de costes B-1. Procedimientos para la imputación de costes.
URL:https://aenoa.com/evento/curso-gestion-de-la-formacion-bonificada-nivel-superior-experto/
CATEGORIES:Curso Gestión Formación Programada
ATTACH;FMTTYPE=image/webp:https://aenoa.com/wp-content/uploads/2023/12/curso-gestion-de-la-formacion-bonificada-nivel-superior-2025.webp
END:VEVENT
BEGIN:VEVENT
DTSTART;VALUE=DATE:20260422
DTEND;VALUE=DATE:20260423
DTSTAMP:20260422T014353
CREATED:20240112T131021Z
LAST-MODIFIED:20260406T091811Z
UID:10000010-1776816000-1776902399@aenoa.com
SUMMARY:Curso Herramientas de IA para la gestión de las empresas
DESCRIPTION:Detalles del curso\n\n\n\nEl potencial de la inteligencia artificial para revolucionar la formación es inmenso\, ofreciendo experiencias de aprendizaje personalizadas\, eficientes y accesibles para los alumnos. En este curso\, exploraremos las formas en que la IA está transformando el campo de la Formación y cómo puede enriquecer la experiencia de aprendizaje tanto para alumnos como para las empresas. \n\n\n\nAenoa organiza este curso técnico donde aprender sobre esta nueva herramienta. \n\n\n\nDirigido a: Profesionales del sector de la formación con responsabilidad en áreas de coordinación\, formación\, comerciales\, gestión documental\, pedagógicas\, elaboración de contenidos\, técnicas\, tutores y jefes de estudios\, gestores de proyectos\, proveedores de soluciones y servicios de formación a empresas\, coordinadores de formación on line\,…RRHH de grandes empresas\, asesores\, consultoras de formación\,… \n\n\n\nSi desea más información\, solicítela en el email info@aenoa.com \n\n\n\n\n\n\n\nAdemás charlas mediante videoconferencia externas \nEl curso incluye: \n\nFormación.\nMaterial de apoyo y consulta.\n6 meses gratuitos de asesoramiento.\n\n  \n\n\n\n\n\nContenidos del curso\n\n\n\nTema 1: INTRODUCCIÓN A LA INTELIGENCIA ARTIFICIAL Y SUS HERRAMIENTAS DE UTILIDAD A LA GESTIÓN DE LA EMPRESA\n\n\n\n\nObjetivos.\nDefinición y conceptos básicos de Inteligencia Artificial.\nEtapas de la historia de la Inteligencia Artificial.\nEl Aprendizaje Automático.\nEl Deep Learning.\nPasado\, presente y futuro del Machine-Deep learning.\nLas herramientas de IA de aplicación a la gestión de las empresas.\nRiesgos\, ética y legislación en la Inteligencia Artificial.\nResumen.\nActividad Práctica.\nTest de evaluación.\n\n  \n\n\n\nTema 2: EL CHATGPT\n\n\n\n\nObjetivos.\nResumen.\nIntroducción al ChatGPT.\nFuncionamiento y características del ChatGPT.\nAplicaciones y utilidades del ChatGPT para la gestión de las empresas.\nPrincipales instrucciones y recomendaciones de uso de ChatGPT.\nConsejos para aprovechar al máximo el ChatGPT.\nComandos útiles para el uso de ChatGPT\nConsideraciones éticas y limitaciones técnicas.\nCasos prácticos.\nActividades Prácticas.\nTest de evaluación.\n\n  \n\n\n\nTema 3: OTRAS HERRAMIENTAS GENERALISTAS\n\n\n\n\nObjetivos.\nHerramientas alternativas al ChatGPT.\nGemini\, el Chatbot de Google.\nUso básico de Gemini.\nFunciones Gemini.\nMicrosoft Copilot Chat.\nUso básico de Copilot Chat.\nOtras herramientas: Claude 3.5 Sonnet.\nResumen.\nActividad Práctica.\nTest de evaluación.\n\n  \n\n\n\nTema 4: EL DISEÑO VISUAL MEDIANTE LA IA: INFOGRAFÍAS\, PRESENTACIONES E IMÁGENES\n\n\n\n\nObjetivos.\nIntroducción.\nAportaciones de la IA a las necesidades de infografías de las empresas\nEjemplo: Canva.\nAportaciones de la IA para la creación de presentaciones.\nEjemplo: Google SlaidsAI y Gamma.\nAportaciones de la IA para generar o editar imágenes útiles para las empresas.\nEjemplo: Dalle 3 de Open AI\, PicWish\, Leonardo y Adobe Firefly\nResumen\nCasos prácticos.\nActividades Prácticas.\nTest de evaluación.\n\n  \n\n\n\nTema 5: HERRAMIENTAS BASADAS EN LA IA PARA LA EDICIÓN DE AUDIO Y VIDEO\n\n\n\n\nObjetivos.\nLas herramientas de audio basadas en la Inteligencia Artificial y su utilidad para las empresas\nEjemplo ElevenLabs\nEjemplo Murf AI\nLas herramientas de Video basadas en la Inteligencia Artificial y su utilidad para las empresas\nEjemplo Pictory. Ia\nEjemplo Veed.io\nResumen.\nActividades Prácticas.\nTest de evaluación.\n\n  \n\n\n\nTema 6: OTRAS HERRAMIENTAS DE INTELIGENCIA ARTIFICIAL ÚTILES PARA LAS EMPRESAS.\n\n\n\n\nObjetivos.\nHerramientas de Inteligencia Artificial para texto y traducción y su utilidad para las empresas.\nEjemplo de traductor: DeepL.\nEjemplo de corrector de textos: Grammarly.\nHerramientas de IA específicas para la gestión de la empresa.\nEjemplo Quickbooks.\nEjemplo HubSpot Marketing.\nEjemplo Google Adds.\nResumen.\nActividades Prácticas.\nTest de evaluación.
URL:https://aenoa.com/evento/curso-herramientas-de-ia-para-la-gestion-de-las-empresas/
CATEGORIES:Curso Inteligencia Artificial
ATTACH;FMTTYPE=image/webp:https://aenoa.com/wp-content/uploads/2024/01/curso-heramientas-de-ia-para-la-gestion-de-la-empresas-2025.webp
END:VEVENT
BEGIN:VEVENT
DTSTART;VALUE=DATE:20260422
DTEND;VALUE=DATE:20260423
DTSTAMP:20260422T014353
CREATED:20251229T145111Z
LAST-MODIFIED:20260406T091913Z
UID:10000029-1776816000-1776902399@aenoa.com
SUMMARY:Curso Superior de Inteligencia Artificial aplicada a Oficinas y Despachos
DESCRIPTION:Este curso online ofrece una formación práctica y técnica sobre cómo utilizar la Inteligencia Artificial (IA) para optimizar y transformar la gestión empresarial. A través de módulos estructurados\, los participantes aprenderán desde los conceptos fundamentales de la IA hasta la aplicación de herramientas concretas que impulsan la eficiencia operativa\, la automatización de tareas y la mejora de la productividad en distintos ámbitos de la empresa.
URL:https://aenoa.com/evento/curso-superior-de-inteligencia-artificial-aplicada-a-oficinas-y-despachos/
CATEGORIES:Curso Inteligencia Artificial
ATTACH;FMTTYPE=image/webp:https://aenoa.com/wp-content/uploads/2025/12/curso-superior-de-inteligencia-artificial-aplicada-a-oficinas-y-despachos.webp
END:VEVENT
END:VCALENDAR