BEGIN:VCALENDAR
VERSION:2.0
PRODID:-//Aenoa formacion - ECPv6.9.0//NONSGML v1.0//EN
CALSCALE:GREGORIAN
METHOD:PUBLISH
X-WR-CALNAME:Aenoa formacion
X-ORIGINAL-URL:https://aenoa.com
X-WR-CALDESC:Eventos para Aenoa formacion
REFRESH-INTERVAL;VALUE=DURATION:PT1H
X-Robots-Tag:noindex
X-PUBLISHED-TTL:PT1H
BEGIN:VTIMEZONE
TZID:Europe/Helsinki
BEGIN:DAYLIGHT
TZOFFSETFROM:+0200
TZOFFSETTO:+0300
TZNAME:EEST
DTSTART:20260329T010000
END:DAYLIGHT
BEGIN:STANDARD
TZOFFSETFROM:+0300
TZOFFSETTO:+0200
TZNAME:EET
DTSTART:20261025T010000
END:STANDARD
END:VTIMEZONE
BEGIN:VEVENT
DTSTART;VALUE=DATE:20260423
DTEND;VALUE=DATE:20260424
DTSTAMP:20260423T011932
CREATED:20240813T082250Z
LAST-MODIFIED:20260406T091905Z
UID:10000018-1776902400-1776988799@aenoa.com
SUMMARY:Curso Superior de Dirección de Inteligencia Artificial en las empresas (CAIO)
DESCRIPTION:El curso superior en Dirección de Inteligencia Artificial (IA) en las empresas está diseñado para formar profesionales en IA\, brindándoles las herramientas necesarias para transformar tecnologías en motores de negocio efectivos. Este programa se enfoca tanto en la teoría como en la práctica\, preparándote para afrontar los desafíos del entorno empresarial actual\, impulsado por IA. \nEste curso ha sido auditado por el Laboratorio de Ingeniería Didáctica de la UNED (art. 83 LOU)
URL:https://aenoa.com/evento/curso-superior-de-direccion-de-inteligencia-artificial-en-las-empresas/
CATEGORIES:Curso Inteligencia Artificial
ATTACH;FMTTYPE=image/webp:https://aenoa.com/wp-content/uploads/2024/08/curso-superior-de-direccion-de-inteligencia-artificial-en-las-empresas-2025.webp
END:VEVENT
END:VCALENDAR