BEGIN:VCALENDAR
VERSION:2.0
PRODID:-//Aenoa formacion - ECPv6.9.0//NONSGML v1.0//EN
CALSCALE:GREGORIAN
METHOD:PUBLISH
X-ORIGINAL-URL:https://aenoa.com
X-WR-CALDESC:Eventos para Aenoa formacion
REFRESH-INTERVAL;VALUE=DURATION:PT1H
X-Robots-Tag:noindex
X-PUBLISHED-TTL:PT1H
BEGIN:VTIMEZONE
TZID:Europe/Helsinki
BEGIN:DAYLIGHT
TZOFFSETFROM:+0200
TZOFFSETTO:+0300
TZNAME:EEST
DTSTART:20250330T010000
END:DAYLIGHT
BEGIN:STANDARD
TZOFFSETFROM:+0300
TZOFFSETTO:+0200
TZNAME:EET
DTSTART:20251026T010000
END:STANDARD
END:VTIMEZONE
BEGIN:VEVENT
DTSTART;VALUE=DATE:20251127
DTEND;VALUE=DATE:20251129
DTSTAMP:20260419T150357
CREATED:20241204T122729Z
LAST-MODIFIED:20250917T091307Z
UID:10000023-1764201600-1764374399@aenoa.com
SUMMARY:Cómo Bonificar los cursos PRL y la Formación obligatoria
DESCRIPTION:Detalles del Evento\nEste curso está diseñado para profesionales y técnicos involucrados en la gestión de la formación\, responsables de procesos\, y coordinadores de formación en empresas de Prevención de Riesgos Laborales y Servicios de Prevención Ajeno. \nEl programa abordará temas clave como la organización y planificación de formación de PRL\, la gestión de costes y cofinanciación\, el cumplimiento normativo\, auditorías\, nuevas tendencias en PRL\, cómo organizar cursos bonificados de PRL y formación obligatoria en distintos sectores como: construcción\, transporte\, agricultura\, servicios\, etc.. \nDirigido a responsables de formación en empresas de PRL\, coordinadores de procesos\, técnicos de prevención\, gestores de proyectos\, asesores en formación\, consultoras\, responsables de recursos humanos\, tutores\, jefes de estudios\, y proveedores de servicios formativos. También es ideal para departamentos de RRHH que deseen bonificar los cursos obligatorios de su empresa. \nSi desea más información\, solicítela en el email info@aenoa.com.\n30 y 31 de Enero. Horario 9:00h a 11:00h. \n  \nENLACE AL DOSSIER DEL CURSO (PDF) \nContenidos\n\nGestión\, organización y documentación acreditativa de la formación de PRL.\nEstrategias comerciales para vender cursos de PRL.\nTécnicas para Auditorías internas. Trazabilidad y control.\nControl de la documentación según Fundae. Justificación de costes.\nControl de la Cofinanciación Privada. Aportación privada de las empresas.\nAnálisis de los informe de la aplicación informática de Fundae.\nAuditoria económica y de imputación de costes de empresas de PRL.\nJustificación económica de Entidades Organizadoras. Y SPA.\nPreparación de Requerimiento. Alegaciones para evitar Minoraciones.\nControl de las Conciliaciones. Causas de no conformidad.\nCaso práctico real de soportes justificativos\, pagos y contabilidad.\nCursos relacionados con la formación de prevención.\nCómo organizar cursos bonificados con contenidos de PRL\nLa TPC y TPM. Formación del Convenio Sector Metal.\nFormación a personal directivo\, oficina\, producción\, etc.\nFormación homologada del sector de Telecomunicaciones (TELCO).\nLa Formación de PRL en Oficios. Carretillero\, Operador Grúas\, Seguridad Vial Laboral\, montaje andamios y estructuras\, etc.\nLa Formación según el artículo 19 de la Ley Prevención de Riesgos. Su posible bonificación.\nVigilancia de salud y protección de datos.\nCursos de Planes de Igualdad\, género\, acoso\, LGTBI\, …\nFormación online y Aula Virtual de cursos de PRL.\nOtros cursos. Manipulador Alimentos\, Alérgenos\, APPCC\,…\nCursos transporte: CAP\, ADR\, consejero\, seguridad vial\,…\nCursos: DESA\, soporte vital\, carnets profesionales\,\nBonificar cursos de Seguridad Alimentaria\, Fitosanitarios\, Plagas\, DDD\, Legionela\, APPCC; Bienestar animal\,.\nBonificar cursos de Primeros Auxilios\, Socorrismo\, Carretillero\, Puentes Grúas\, Plataformas elevadoras\, Extinción de incendios\, Emergencias\,…\nGestión de cursos de Delegado recurso preventivo\, Formación de convenio\, Oficios\, Soldadura\, Delegado de PRL\, …\n\nCoste de la Formación\n250 € \n(Contiene invitación al Congreso Formación Aenoa 2025) \n  \nIncluye: \n\nFormación.\nMaterial de apoyo y consulta.\n6 meses gratuitos de asesoramiento.\n\n  \n  \n\n 
URL:https://aenoa.com/evento/como-bonificar-cursos-prl-y-formacion-obligatoria/
CATEGORIES:Curso Gestión Formación Programada,Evento
ATTACH;FMTTYPE=image/webp:https://aenoa.com/wp-content/uploads/2024/12/como-bonificar-los-cursos-prl-y-la-formacion-obligatoria-2025.webp
END:VEVENT
END:VCALENDAR