BEGIN:VCALENDAR
VERSION:2.0
PRODID:-//Aenoa formacion - ECPv6.9.0//NONSGML v1.0//EN
CALSCALE:GREGORIAN
METHOD:PUBLISH
X-WR-CALNAME:Aenoa formacion
X-ORIGINAL-URL:https://aenoa.com
X-WR-CALDESC:Eventos para Aenoa formacion
REFRESH-INTERVAL;VALUE=DURATION:PT1H
X-Robots-Tag:noindex
X-PUBLISHED-TTL:PT1H
BEGIN:VTIMEZONE
TZID:Europe/Helsinki
BEGIN:DAYLIGHT
TZOFFSETFROM:+0200
TZOFFSETTO:+0300
TZNAME:EEST
DTSTART:20250330T010000
END:DAYLIGHT
BEGIN:STANDARD
TZOFFSETFROM:+0300
TZOFFSETTO:+0200
TZNAME:EET
DTSTART:20251026T010000
END:STANDARD
END:VTIMEZONE
BEGIN:VEVENT
DTSTART;TZID=Europe/Helsinki:20250626T093000
DTEND;TZID=Europe/Helsinki:20250626T140000
DTSTAMP:20260419T222548
CREATED:20250328T101216Z
LAST-MODIFIED:20250609T070130Z
UID:10000026-1750930200-1750946400@aenoa.com
SUMMARY:Jornada: Tendencias en la Gestión de las Personas y Liderazgo
DESCRIPTION:Detalles del evento\nEsta jornada está diseñada para profesionales de recursos humanos\, formación y liderazgo empresarial\, ofreciendo una visión actualizada sobre las últimas tendencias en la gestión de personas. A través de ponencias especializadas\, debates y networking\, los asistentes conocerán estrategias innovadoras en formación\, inteligencia artificial\, liderazgo y normativa laboral. \nSe abordarán temas clave como la aplicación de la inteligencia artificial en RRHH\, el impacto de las videopíldoras en la formación\, la gestión de la formación bonificada en grandes empresas y las últimas novedades legislativas laborales. \nAdemás\, se tratarán aspectos esenciales sobre bienestar y salud laboral\, incluyendo el registro horario y las obligaciones en PRL. La jornada concluirá con una ponencia sobre liderazgo del reconocido experto Juan Carlos Cubeiro y un cóctel exclusivo de networking. \nA quién va dirigido\n\nEmpresas y entidades con más de 100 empleados en plantilla media.\nDirectores y responsables de RRHH.\nProfesionales del ámbito de la formación y el desarrollo empresarial.\nConsultores especializados en formación bonificada y normativa laboral.\nEmpresas interesadas en optimizar la gestión de su talento y liderazgo.\n\nPrograma de la jornada\n9:45 H – Recepción de asistentes. Apertura. \n10:00 H – Inteligencia artificial aplicada a los recursos humanos. \n10:45 H – Formación: Videopíldoras como recurso educativo. \n11:15 H – Gestión de la formación bonificada en grandes empresas. \nDescanso. \n12:00 H – Laboral y jurídico: Novedades legislativas laborales\, conflictos y soluciones. \n12:20 H – Bienestar y salud laboral: \n\nRegistro horario y adaptación a la normativa.\nObligaciones en PRL y aspectos clave.\n\n12:45 H – Ponencia marco: \n\nEl poder de LinkedIn para Recursos Humanos – Ismael Briasco.\n\n13:45 H – Networking y cóctel exclusivo para empresas asistentes. \nPonentes\n\n\nMamen BlancoExperta en Inteligencia Artificial aplicada a los Recursos Humanos y a la empresa.CEO de Inteligencia Artificial & Talento Academy.Autora de “ChatGPT para RRHH” y “ChatGPT para Gestión Clínica”. \n\n\nIsmael BriascoSpeaker internacional y pionero del emprendimiento digital en el mundo hispano.Fundador de psicofxp.com\, LinkedUp y NIXGrowth; coach ontológico y experto en social selling y marca personal en LinkedIn. \n\n\nPedro J. GómezEconomista con Doctorado en Mercados Financieros Derivados.Presidente de Honor de ANCYPEL y CEO de Diseño de Recursos Educativos\, Vilaser Inversiones y Producciones Digitales Online. \n\n\nMaría José CarreteroAbogada especializada en Derecho Laboral y de la Seguridad Social.Titular de Bufete Carretero y socia laboral en Abbantia Abogados. \n\n\nJosé Luis SalgueroEconomista y consultor en financiación y gestión de formación continua.Gerente de AENOA\, con amplia experiencia en coordinación de planes formativos y aplicación de IA en RRHH. \n\n\nAscensio VázquezDirector de Antea Consulting.Experto en Comercio Internacional y docente acreditado por SEPE en Formación Profesional para el Empleo. \n\n\nEnrique OrdóñezCoordinador del Área Técnica de Antea Prevención (PRL).Técnico de PRL con más de 20 años de trayectoria en asesoramiento\, diseño de soluciones informáticas y digitalización de la prevención. \n\n\nOrganizadores\n\nAenoa.\nDred – Diseño de Recursos Educativos\nAbbantia Law Firm.\nBufete Carretero.\nMamen Blanco – Autora del libro ChatGPT para Recursos Humanos.\nAntea Prevención.\n\n¡Reserva tu plaza y mantente al día con las tendencias más innovadoras en gestión de personas y liderazgo!
URL:https://aenoa.com/evento/jornada-tendencias-en-la-gestion-de-las-personas-y-liderazgo/
CATEGORIES:Evento
ATTACH;FMTTYPE=image/webp:https://aenoa.com/wp-content/uploads/2025/03/jornada-tendencias-en-la-gestiom-de-las-personas-y-liderazgo-sevilla.webp
END:VEVENT
END:VCALENDAR